BEGIN:VCALENDAR
VERSION:2.0
PRODID:-//Northside Baptist Church - ECPv6.15.20//NONSGML v1.0//EN
CALSCALE:GREGORIAN
METHOD:PUBLISH
X-ORIGINAL-URL:https://nbchuntsville.com
X-WR-CALDESC:Events for Northside Baptist Church
REFRESH-INTERVAL;VALUE=DURATION:PT1H
X-Robots-Tag:noindex
X-PUBLISHED-TTL:PT1H
BEGIN:VTIMEZONE
TZID:America/Chicago
BEGIN:DAYLIGHT
TZOFFSETFROM:-0600
TZOFFSETTO:-0500
TZNAME:CDT
DTSTART:20240310T080000
END:DAYLIGHT
BEGIN:STANDARD
TZOFFSETFROM:-0500
TZOFFSETTO:-0600
TZNAME:CST
DTSTART:20241103T070000
END:STANDARD
BEGIN:DAYLIGHT
TZOFFSETFROM:-0600
TZOFFSETTO:-0500
TZNAME:CDT
DTSTART:20250309T080000
END:DAYLIGHT
BEGIN:STANDARD
TZOFFSETFROM:-0500
TZOFFSETTO:-0600
TZNAME:CST
DTSTART:20251102T070000
END:STANDARD
BEGIN:DAYLIGHT
TZOFFSETFROM:-0600
TZOFFSETTO:-0500
TZNAME:CDT
DTSTART:20260308T080000
END:DAYLIGHT
BEGIN:STANDARD
TZOFFSETFROM:-0500
TZOFFSETTO:-0600
TZNAME:CST
DTSTART:20261101T070000
END:STANDARD
END:VTIMEZONE
BEGIN:VEVENT
DTSTART;TZID=America/Chicago:20250310T093000
DTEND;TZID=America/Chicago:20250310T110000
DTSTAMP:20260419T152006
CREATED:20240828T140207Z
LAST-MODIFIED:20240828T140207Z
UID:10000476-1741599000-1741604400@nbchuntsville.com
SUMMARY:W.I.S.E. - Women of Northside
DESCRIPTION:W.I.S.E.\, or Women In Service Eternally is held on the second Monday of the month in the Women’s Suite from 9:30 – 11:00 am.  All women are invited to join us for a devotional\, fellowship and a service project.  God loves it when we serve.  Contact Gayle Cooper or Jenny Watson with any questions.
URL:https://nbchuntsville.com/event/w-i-s-e-women-of-northside/2025-03-10/
LOCATION:Women’s Suite
CATEGORIES:Monthly
ATTACH;FMTTYPE=image/webp:https://nbchuntsville.com/wp-content/uploads/2024/08/won-wise.webp
END:VEVENT
BEGIN:VEVENT
DTSTART;TZID=America/Chicago:20250312T170000
DTEND;TZID=America/Chicago:20250312T193000
DTSTAMP:20260419T152006
CREATED:20230817T050046Z
LAST-MODIFIED:20240828T140742Z
UID:10000517-1741798800-1741807800@nbchuntsville.com
SUMMARY:Wednesday Services
DESCRIPTION:5:00 PM – Dinner\n6:15 PM – AWANA (Pre-K through 5th)\n6:30 PM – Northside Students (6th – 12th)\n6:30 PM – College and Young Adult\n6:30 PM – Adult Bible Study
URL:https://nbchuntsville.com/event/awana/2025-03-12/
LOCATION:TX
CATEGORIES:Weekly
ATTACH;FMTTYPE=image/webp:https://nbchuntsville.com/wp-content/uploads/2023/08/midweek-service.webp
END:VEVENT
BEGIN:VEVENT
DTSTART;TZID=America/Chicago:20250316T093000
DTEND;TZID=America/Chicago:20250316T123000
DTSTAMP:20260419T152006
CREATED:20230817T204955Z
LAST-MODIFIED:20230817T205203Z
UID:10000169-1742117400-1742128200@nbchuntsville.com
SUMMARY:Sunday Services
DESCRIPTION:9:30 AM – Small Group Bible Study\n10:50 AM – Worship Service
URL:https://nbchuntsville.com/event/sunday-services/2025-03-16/
LOCATION:TX
CATEGORIES:Weekly
ATTACH;FMTTYPE=image/webp:https://nbchuntsville.com/wp-content/uploads/2023/08/sunday-services.webp
END:VEVENT
END:VCALENDAR