BEGIN:VCALENDAR
VERSION:2.0
PRODID:-//Northside Baptist Church - ECPv6.15.20//NONSGML v1.0//EN
CALSCALE:GREGORIAN
METHOD:PUBLISH
X-WR-CALNAME:Northside Baptist Church
X-ORIGINAL-URL:https://nbchuntsville.com
X-WR-CALDESC:Events for Northside Baptist Church
REFRESH-INTERVAL;VALUE=DURATION:PT1H
X-Robots-Tag:noindex
X-PUBLISHED-TTL:PT1H
BEGIN:VTIMEZONE
TZID:America/Chicago
BEGIN:DAYLIGHT
TZOFFSETFROM:-0600
TZOFFSETTO:-0500
TZNAME:CDT
DTSTART:20240310T080000
END:DAYLIGHT
BEGIN:STANDARD
TZOFFSETFROM:-0500
TZOFFSETTO:-0600
TZNAME:CST
DTSTART:20241103T070000
END:STANDARD
BEGIN:DAYLIGHT
TZOFFSETFROM:-0600
TZOFFSETTO:-0500
TZNAME:CDT
DTSTART:20250309T080000
END:DAYLIGHT
BEGIN:STANDARD
TZOFFSETFROM:-0500
TZOFFSETTO:-0600
TZNAME:CST
DTSTART:20251102T070000
END:STANDARD
BEGIN:DAYLIGHT
TZOFFSETFROM:-0600
TZOFFSETTO:-0500
TZNAME:CDT
DTSTART:20260308T080000
END:DAYLIGHT
BEGIN:STANDARD
TZOFFSETFROM:-0500
TZOFFSETTO:-0600
TZNAME:CST
DTSTART:20261101T070000
END:STANDARD
END:VTIMEZONE
BEGIN:VEVENT
DTSTART;TZID=America/Chicago:20251001T170000
DTEND;TZID=America/Chicago:20251001T193000
DTSTAMP:20260419T192223
CREATED:20230817T050046Z
LAST-MODIFIED:20240828T140742Z
UID:10000546-1759338000-1759347000@nbchuntsville.com
SUMMARY:Wednesday Services
DESCRIPTION:5:00 PM – Dinner\n6:15 PM – AWANA (Pre-K through 5th)\n6:30 PM – Northside Students (6th – 12th)\n6:30 PM – College and Young Adult\n6:30 PM – Adult Bible Study
URL:https://nbchuntsville.com/event/awana/2025-10-01/
CATEGORIES:Weekly
ATTACH;FMTTYPE=image/webp:https://nbchuntsville.com/wp-content/uploads/2023/08/midweek-service.webp
END:VEVENT
BEGIN:VEVENT
DTSTART;TZID=America/Chicago:20251005T093000
DTEND;TZID=America/Chicago:20251005T123000
DTSTAMP:20260419T192223
CREATED:20230817T204955Z
LAST-MODIFIED:20230817T205203Z
UID:10000198-1759656600-1759667400@nbchuntsville.com
SUMMARY:Sunday Services
DESCRIPTION:9:30 AM – Small Group Bible Study\n10:50 AM – Worship Service
URL:https://nbchuntsville.com/event/sunday-services/2025-10-05/
CATEGORIES:Weekly
ATTACH;FMTTYPE=image/webp:https://nbchuntsville.com/wp-content/uploads/2023/08/sunday-services.webp
END:VEVENT
BEGIN:VEVENT
DTSTART;TZID=America/Chicago:20251008T170000
DTEND;TZID=America/Chicago:20251008T193000
DTSTAMP:20260419T192223
CREATED:20230817T050046Z
LAST-MODIFIED:20240828T140742Z
UID:10000547-1759942800-1759951800@nbchuntsville.com
SUMMARY:Wednesday Services
DESCRIPTION:5:00 PM – Dinner\n6:15 PM – AWANA (Pre-K through 5th)\n6:30 PM – Northside Students (6th – 12th)\n6:30 PM – College and Young Adult\n6:30 PM – Adult Bible Study
URL:https://nbchuntsville.com/event/awana/2025-10-08/
CATEGORIES:Weekly
ATTACH;FMTTYPE=image/webp:https://nbchuntsville.com/wp-content/uploads/2023/08/midweek-service.webp
END:VEVENT
BEGIN:VEVENT
DTSTART;TZID=America/Chicago:20251012T093000
DTEND;TZID=America/Chicago:20251012T123000
DTSTAMP:20260419T192223
CREATED:20230817T204955Z
LAST-MODIFIED:20230817T205203Z
UID:10000199-1760261400-1760272200@nbchuntsville.com
SUMMARY:Sunday Services
DESCRIPTION:9:30 AM – Small Group Bible Study\n10:50 AM – Worship Service
URL:https://nbchuntsville.com/event/sunday-services/2025-10-12/
CATEGORIES:Weekly
ATTACH;FMTTYPE=image/webp:https://nbchuntsville.com/wp-content/uploads/2023/08/sunday-services.webp
END:VEVENT
BEGIN:VEVENT
DTSTART;TZID=America/Chicago:20251015T170000
DTEND;TZID=America/Chicago:20251015T193000
DTSTAMP:20260419T192223
CREATED:20230817T050046Z
LAST-MODIFIED:20240828T140742Z
UID:10000548-1760547600-1760556600@nbchuntsville.com
SUMMARY:Wednesday Services
DESCRIPTION:5:00 PM – Dinner\n6:15 PM – AWANA (Pre-K through 5th)\n6:30 PM – Northside Students (6th – 12th)\n6:30 PM – College and Young Adult\n6:30 PM – Adult Bible Study
URL:https://nbchuntsville.com/event/awana/2025-10-15/
CATEGORIES:Weekly
ATTACH;FMTTYPE=image/webp:https://nbchuntsville.com/wp-content/uploads/2023/08/midweek-service.webp
END:VEVENT
BEGIN:VEVENT
DTSTART;TZID=America/Chicago:20251019T093000
DTEND;TZID=America/Chicago:20251019T123000
DTSTAMP:20260419T192223
CREATED:20230817T204955Z
LAST-MODIFIED:20230817T205203Z
UID:10000200-1760866200-1760877000@nbchuntsville.com
SUMMARY:Sunday Services
DESCRIPTION:9:30 AM – Small Group Bible Study\n10:50 AM – Worship Service
URL:https://nbchuntsville.com/event/sunday-services/2025-10-19/
CATEGORIES:Weekly
ATTACH;FMTTYPE=image/webp:https://nbchuntsville.com/wp-content/uploads/2023/08/sunday-services.webp
END:VEVENT
BEGIN:VEVENT
DTSTART;TZID=America/Chicago:20251022T170000
DTEND;TZID=America/Chicago:20251022T193000
DTSTAMP:20260419T192223
CREATED:20230817T050046Z
LAST-MODIFIED:20240828T140742Z
UID:10000549-1761152400-1761161400@nbchuntsville.com
SUMMARY:Wednesday Services
DESCRIPTION:5:00 PM – Dinner\n6:15 PM – AWANA (Pre-K through 5th)\n6:30 PM – Northside Students (6th – 12th)\n6:30 PM – College and Young Adult\n6:30 PM – Adult Bible Study
URL:https://nbchuntsville.com/event/awana/2025-10-22/
CATEGORIES:Weekly
ATTACH;FMTTYPE=image/webp:https://nbchuntsville.com/wp-content/uploads/2023/08/midweek-service.webp
END:VEVENT
BEGIN:VEVENT
DTSTART;TZID=America/Chicago:20251026T093000
DTEND;TZID=America/Chicago:20251026T123000
DTSTAMP:20260419T192223
CREATED:20230817T204955Z
LAST-MODIFIED:20230817T205203Z
UID:10000201-1761471000-1761481800@nbchuntsville.com
SUMMARY:Sunday Services
DESCRIPTION:9:30 AM – Small Group Bible Study\n10:50 AM – Worship Service
URL:https://nbchuntsville.com/event/sunday-services/2025-10-26/
CATEGORIES:Weekly
ATTACH;FMTTYPE=image/webp:https://nbchuntsville.com/wp-content/uploads/2023/08/sunday-services.webp
END:VEVENT
BEGIN:VEVENT
DTSTART;TZID=America/Chicago:20251029T170000
DTEND;TZID=America/Chicago:20251029T193000
DTSTAMP:20260419T192223
CREATED:20230817T050046Z
LAST-MODIFIED:20240828T140742Z
UID:10000550-1761757200-1761766200@nbchuntsville.com
SUMMARY:Wednesday Services
DESCRIPTION:5:00 PM – Dinner\n6:15 PM – AWANA (Pre-K through 5th)\n6:30 PM – Northside Students (6th – 12th)\n6:30 PM – College and Young Adult\n6:30 PM – Adult Bible Study
URL:https://nbchuntsville.com/event/awana/2025-10-29/
CATEGORIES:Weekly
ATTACH;FMTTYPE=image/webp:https://nbchuntsville.com/wp-content/uploads/2023/08/midweek-service.webp
END:VEVENT
END:VCALENDAR