BEGIN:VCALENDAR
VERSION:2.0
PRODID:-//Northside Baptist Church - ECPv6.15.20//NONSGML v1.0//EN
CALSCALE:GREGORIAN
METHOD:PUBLISH
X-WR-CALNAME:Northside Baptist Church
X-ORIGINAL-URL:https://nbchuntsville.com
X-WR-CALDESC:Events for Northside Baptist Church
REFRESH-INTERVAL;VALUE=DURATION:PT1H
X-Robots-Tag:noindex
X-PUBLISHED-TTL:PT1H
BEGIN:VTIMEZONE
TZID:America/Chicago
BEGIN:DAYLIGHT
TZOFFSETFROM:-0600
TZOFFSETTO:-0500
TZNAME:CDT
DTSTART:20240310T080000
END:DAYLIGHT
BEGIN:STANDARD
TZOFFSETFROM:-0500
TZOFFSETTO:-0600
TZNAME:CST
DTSTART:20241103T070000
END:STANDARD
BEGIN:DAYLIGHT
TZOFFSETFROM:-0600
TZOFFSETTO:-0500
TZNAME:CDT
DTSTART:20250309T080000
END:DAYLIGHT
BEGIN:STANDARD
TZOFFSETFROM:-0500
TZOFFSETTO:-0600
TZNAME:CST
DTSTART:20251102T070000
END:STANDARD
BEGIN:DAYLIGHT
TZOFFSETFROM:-0600
TZOFFSETTO:-0500
TZNAME:CDT
DTSTART:20260308T080000
END:DAYLIGHT
BEGIN:STANDARD
TZOFFSETFROM:-0500
TZOFFSETTO:-0600
TZNAME:CST
DTSTART:20261101T070000
END:STANDARD
END:VTIMEZONE
BEGIN:VEVENT
DTSTART;TZID=America/Chicago:20250803T093000
DTEND;TZID=America/Chicago:20250803T123000
DTSTAMP:20260419T224310
CREATED:20230817T204955Z
LAST-MODIFIED:20230817T205203Z
UID:10000189-1754213400-1754224200@nbchuntsville.com
SUMMARY:Sunday Services
DESCRIPTION:9:30 AM – Small Group Bible Study\n10:50 AM – Worship Service
URL:https://nbchuntsville.com/event/sunday-services/2025-08-03/
CATEGORIES:Weekly
ATTACH;FMTTYPE=image/webp:https://nbchuntsville.com/wp-content/uploads/2023/08/sunday-services.webp
END:VEVENT
BEGIN:VEVENT
DTSTART;TZID=America/Chicago:20250806T170000
DTEND;TZID=America/Chicago:20250806T193000
DTSTAMP:20260419T224310
CREATED:20230817T050046Z
LAST-MODIFIED:20240828T140742Z
UID:10000538-1754499600-1754508600@nbchuntsville.com
SUMMARY:Wednesday Services
DESCRIPTION:5:00 PM – Dinner\n6:15 PM – AWANA (Pre-K through 5th)\n6:30 PM – Northside Students (6th – 12th)\n6:30 PM – College and Young Adult\n6:30 PM – Adult Bible Study
URL:https://nbchuntsville.com/event/awana/2025-08-06/
CATEGORIES:Weekly
ATTACH;FMTTYPE=image/webp:https://nbchuntsville.com/wp-content/uploads/2023/08/midweek-service.webp
END:VEVENT
BEGIN:VEVENT
DTSTART;TZID=America/Chicago:20250810T093000
DTEND;TZID=America/Chicago:20250810T123000
DTSTAMP:20260419T224310
CREATED:20230817T204955Z
LAST-MODIFIED:20230817T205203Z
UID:10000190-1754818200-1754829000@nbchuntsville.com
SUMMARY:Sunday Services
DESCRIPTION:9:30 AM – Small Group Bible Study\n10:50 AM – Worship Service
URL:https://nbchuntsville.com/event/sunday-services/2025-08-10/
CATEGORIES:Weekly
ATTACH;FMTTYPE=image/webp:https://nbchuntsville.com/wp-content/uploads/2023/08/sunday-services.webp
END:VEVENT
BEGIN:VEVENT
DTSTART;TZID=America/Chicago:20250813T170000
DTEND;TZID=America/Chicago:20250813T193000
DTSTAMP:20260419T224310
CREATED:20230817T050046Z
LAST-MODIFIED:20240828T140742Z
UID:10000539-1755104400-1755113400@nbchuntsville.com
SUMMARY:Wednesday Services
DESCRIPTION:5:00 PM – Dinner\n6:15 PM – AWANA (Pre-K through 5th)\n6:30 PM – Northside Students (6th – 12th)\n6:30 PM – College and Young Adult\n6:30 PM – Adult Bible Study
URL:https://nbchuntsville.com/event/awana/2025-08-13/
CATEGORIES:Weekly
ATTACH;FMTTYPE=image/webp:https://nbchuntsville.com/wp-content/uploads/2023/08/midweek-service.webp
END:VEVENT
BEGIN:VEVENT
DTSTART;TZID=America/Chicago:20250817T093000
DTEND;TZID=America/Chicago:20250817T123000
DTSTAMP:20260419T224310
CREATED:20230817T204955Z
LAST-MODIFIED:20230817T205203Z
UID:10000191-1755423000-1755433800@nbchuntsville.com
SUMMARY:Sunday Services
DESCRIPTION:9:30 AM – Small Group Bible Study\n10:50 AM – Worship Service
URL:https://nbchuntsville.com/event/sunday-services/2025-08-17/
CATEGORIES:Weekly
ATTACH;FMTTYPE=image/webp:https://nbchuntsville.com/wp-content/uploads/2023/08/sunday-services.webp
END:VEVENT
BEGIN:VEVENT
DTSTART;TZID=America/Chicago:20250820T170000
DTEND;TZID=America/Chicago:20250820T193000
DTSTAMP:20260419T224310
CREATED:20230817T050046Z
LAST-MODIFIED:20240828T140742Z
UID:10000540-1755709200-1755718200@nbchuntsville.com
SUMMARY:Wednesday Services
DESCRIPTION:5:00 PM – Dinner\n6:15 PM – AWANA (Pre-K through 5th)\n6:30 PM – Northside Students (6th – 12th)\n6:30 PM – College and Young Adult\n6:30 PM – Adult Bible Study
URL:https://nbchuntsville.com/event/awana/2025-08-20/
CATEGORIES:Weekly
ATTACH;FMTTYPE=image/webp:https://nbchuntsville.com/wp-content/uploads/2023/08/midweek-service.webp
END:VEVENT
BEGIN:VEVENT
DTSTART;TZID=America/Chicago:20250824T093000
DTEND;TZID=America/Chicago:20250824T123000
DTSTAMP:20260419T224310
CREATED:20230817T204955Z
LAST-MODIFIED:20230817T205203Z
UID:10000192-1756027800-1756038600@nbchuntsville.com
SUMMARY:Sunday Services
DESCRIPTION:9:30 AM – Small Group Bible Study\n10:50 AM – Worship Service
URL:https://nbchuntsville.com/event/sunday-services/2025-08-24/
CATEGORIES:Weekly
ATTACH;FMTTYPE=image/webp:https://nbchuntsville.com/wp-content/uploads/2023/08/sunday-services.webp
END:VEVENT
BEGIN:VEVENT
DTSTART;TZID=America/Chicago:20250827T170000
DTEND;TZID=America/Chicago:20250827T193000
DTSTAMP:20260419T224310
CREATED:20230817T050046Z
LAST-MODIFIED:20240828T140742Z
UID:10000541-1756314000-1756323000@nbchuntsville.com
SUMMARY:Wednesday Services
DESCRIPTION:5:00 PM – Dinner\n6:15 PM – AWANA (Pre-K through 5th)\n6:30 PM – Northside Students (6th – 12th)\n6:30 PM – College and Young Adult\n6:30 PM – Adult Bible Study
URL:https://nbchuntsville.com/event/awana/2025-08-27/
CATEGORIES:Weekly
ATTACH;FMTTYPE=image/webp:https://nbchuntsville.com/wp-content/uploads/2023/08/midweek-service.webp
END:VEVENT
BEGIN:VEVENT
DTSTART;TZID=America/Chicago:20250831T093000
DTEND;TZID=America/Chicago:20250831T123000
DTSTAMP:20260419T224310
CREATED:20230817T204955Z
LAST-MODIFIED:20230817T205203Z
UID:10000193-1756632600-1756643400@nbchuntsville.com
SUMMARY:Sunday Services
DESCRIPTION:9:30 AM – Small Group Bible Study\n10:50 AM – Worship Service
URL:https://nbchuntsville.com/event/sunday-services/2025-08-31/
CATEGORIES:Weekly
ATTACH;FMTTYPE=image/webp:https://nbchuntsville.com/wp-content/uploads/2023/08/sunday-services.webp
END:VEVENT
END:VCALENDAR