BEGIN:VCALENDAR
VERSION:2.0
PRODID:-//Northside Baptist Church - ECPv6.15.20//NONSGML v1.0//EN
CALSCALE:GREGORIAN
METHOD:PUBLISH
X-WR-CALNAME:Northside Baptist Church
X-ORIGINAL-URL:https://nbchuntsville.com
X-WR-CALDESC:Events for Northside Baptist Church
REFRESH-INTERVAL;VALUE=DURATION:PT1H
X-Robots-Tag:noindex
X-PUBLISHED-TTL:PT1H
BEGIN:VTIMEZONE
TZID:America/Chicago
BEGIN:DAYLIGHT
TZOFFSETFROM:-0600
TZOFFSETTO:-0500
TZNAME:CDT
DTSTART:20240310T080000
END:DAYLIGHT
BEGIN:STANDARD
TZOFFSETFROM:-0500
TZOFFSETTO:-0600
TZNAME:CST
DTSTART:20241103T070000
END:STANDARD
BEGIN:DAYLIGHT
TZOFFSETFROM:-0600
TZOFFSETTO:-0500
TZNAME:CDT
DTSTART:20250309T080000
END:DAYLIGHT
BEGIN:STANDARD
TZOFFSETFROM:-0500
TZOFFSETTO:-0600
TZNAME:CST
DTSTART:20251102T070000
END:STANDARD
BEGIN:DAYLIGHT
TZOFFSETFROM:-0600
TZOFFSETTO:-0500
TZNAME:CDT
DTSTART:20260308T080000
END:DAYLIGHT
BEGIN:STANDARD
TZOFFSETFROM:-0500
TZOFFSETTO:-0600
TZNAME:CST
DTSTART:20261101T070000
END:STANDARD
END:VTIMEZONE
BEGIN:VEVENT
DTSTART;TZID=America/Chicago:20250504T093000
DTEND;TZID=America/Chicago:20250504T123000
DTSTAMP:20260422T054354
CREATED:20230817T204955Z
LAST-MODIFIED:20230817T205203Z
UID:10000176-1746351000-1746361800@nbchuntsville.com
SUMMARY:Sunday Services
DESCRIPTION:9:30 AM – Small Group Bible Study\n10:50 AM – Worship Service
URL:https://nbchuntsville.com/event/sunday-services/2025-05-04/
CATEGORIES:Weekly
ATTACH;FMTTYPE=image/webp:https://nbchuntsville.com/wp-content/uploads/2023/08/sunday-services.webp
END:VEVENT
BEGIN:VEVENT
DTSTART;TZID=America/Chicago:20250507T170000
DTEND;TZID=America/Chicago:20250507T193000
DTSTAMP:20260422T054354
CREATED:20230817T050046Z
LAST-MODIFIED:20240828T140742Z
UID:10000525-1746637200-1746646200@nbchuntsville.com
SUMMARY:Wednesday Services
DESCRIPTION:5:00 PM – Dinner\n6:15 PM – AWANA (Pre-K through 5th)\n6:30 PM – Northside Students (6th – 12th)\n6:30 PM – College and Young Adult\n6:30 PM – Adult Bible Study
URL:https://nbchuntsville.com/event/awana/2025-05-07/
CATEGORIES:Weekly
ATTACH;FMTTYPE=image/webp:https://nbchuntsville.com/wp-content/uploads/2023/08/midweek-service.webp
END:VEVENT
BEGIN:VEVENT
DTSTART;TZID=America/Chicago:20250511T093000
DTEND;TZID=America/Chicago:20250511T123000
DTSTAMP:20260422T054354
CREATED:20230817T204955Z
LAST-MODIFIED:20230817T205203Z
UID:10000177-1746955800-1746966600@nbchuntsville.com
SUMMARY:Sunday Services
DESCRIPTION:9:30 AM – Small Group Bible Study\n10:50 AM – Worship Service
URL:https://nbchuntsville.com/event/sunday-services/2025-05-11/
CATEGORIES:Weekly
ATTACH;FMTTYPE=image/webp:https://nbchuntsville.com/wp-content/uploads/2023/08/sunday-services.webp
END:VEVENT
BEGIN:VEVENT
DTSTART;TZID=America/Chicago:20250514T170000
DTEND;TZID=America/Chicago:20250514T193000
DTSTAMP:20260422T054354
CREATED:20230817T050046Z
LAST-MODIFIED:20240828T140742Z
UID:10000526-1747242000-1747251000@nbchuntsville.com
SUMMARY:Wednesday Services
DESCRIPTION:5:00 PM – Dinner\n6:15 PM – AWANA (Pre-K through 5th)\n6:30 PM – Northside Students (6th – 12th)\n6:30 PM – College and Young Adult\n6:30 PM – Adult Bible Study
URL:https://nbchuntsville.com/event/awana/2025-05-14/
CATEGORIES:Weekly
ATTACH;FMTTYPE=image/webp:https://nbchuntsville.com/wp-content/uploads/2023/08/midweek-service.webp
END:VEVENT
BEGIN:VEVENT
DTSTART;TZID=America/Chicago:20250518T093000
DTEND;TZID=America/Chicago:20250518T123000
DTSTAMP:20260422T054355
CREATED:20230817T204955Z
LAST-MODIFIED:20230817T205203Z
UID:10000178-1747560600-1747571400@nbchuntsville.com
SUMMARY:Sunday Services
DESCRIPTION:9:30 AM – Small Group Bible Study\n10:50 AM – Worship Service
URL:https://nbchuntsville.com/event/sunday-services/2025-05-18/
CATEGORIES:Weekly
ATTACH;FMTTYPE=image/webp:https://nbchuntsville.com/wp-content/uploads/2023/08/sunday-services.webp
END:VEVENT
BEGIN:VEVENT
DTSTART;TZID=America/Chicago:20250521T170000
DTEND;TZID=America/Chicago:20250521T193000
DTSTAMP:20260422T054355
CREATED:20230817T050046Z
LAST-MODIFIED:20240828T140742Z
UID:10000527-1747846800-1747855800@nbchuntsville.com
SUMMARY:Wednesday Services
DESCRIPTION:5:00 PM – Dinner\n6:15 PM – AWANA (Pre-K through 5th)\n6:30 PM – Northside Students (6th – 12th)\n6:30 PM – College and Young Adult\n6:30 PM – Adult Bible Study
URL:https://nbchuntsville.com/event/awana/2025-05-21/
CATEGORIES:Weekly
ATTACH;FMTTYPE=image/webp:https://nbchuntsville.com/wp-content/uploads/2023/08/midweek-service.webp
END:VEVENT
BEGIN:VEVENT
DTSTART;TZID=America/Chicago:20250525T093000
DTEND;TZID=America/Chicago:20250525T123000
DTSTAMP:20260422T054355
CREATED:20230817T204955Z
LAST-MODIFIED:20230817T205203Z
UID:10000179-1748165400-1748176200@nbchuntsville.com
SUMMARY:Sunday Services
DESCRIPTION:9:30 AM – Small Group Bible Study\n10:50 AM – Worship Service
URL:https://nbchuntsville.com/event/sunday-services/2025-05-25/
CATEGORIES:Weekly
ATTACH;FMTTYPE=image/webp:https://nbchuntsville.com/wp-content/uploads/2023/08/sunday-services.webp
END:VEVENT
BEGIN:VEVENT
DTSTART;TZID=America/Chicago:20250528T170000
DTEND;TZID=America/Chicago:20250528T193000
DTSTAMP:20260422T054355
CREATED:20230817T050046Z
LAST-MODIFIED:20240828T140742Z
UID:10000528-1748451600-1748460600@nbchuntsville.com
SUMMARY:Wednesday Services
DESCRIPTION:5:00 PM – Dinner\n6:15 PM – AWANA (Pre-K through 5th)\n6:30 PM – Northside Students (6th – 12th)\n6:30 PM – College and Young Adult\n6:30 PM – Adult Bible Study
URL:https://nbchuntsville.com/event/awana/2025-05-28/
CATEGORIES:Weekly
ATTACH;FMTTYPE=image/webp:https://nbchuntsville.com/wp-content/uploads/2023/08/midweek-service.webp
END:VEVENT
END:VCALENDAR