BEGIN:VCALENDAR
VERSION:2.0
PRODID:-//Northside Baptist Church - ECPv6.15.20//NONSGML v1.0//EN
CALSCALE:GREGORIAN
METHOD:PUBLISH
X-ORIGINAL-URL:https://nbchuntsville.com
X-WR-CALDESC:Events for Northside Baptist Church
REFRESH-INTERVAL;VALUE=DURATION:PT1H
X-Robots-Tag:noindex
X-PUBLISHED-TTL:PT1H
BEGIN:VTIMEZONE
TZID:America/Chicago
BEGIN:DAYLIGHT
TZOFFSETFROM:-0600
TZOFFSETTO:-0500
TZNAME:CDT
DTSTART:20230312T080000
END:DAYLIGHT
BEGIN:STANDARD
TZOFFSETFROM:-0500
TZOFFSETTO:-0600
TZNAME:CST
DTSTART:20231105T070000
END:STANDARD
BEGIN:DAYLIGHT
TZOFFSETFROM:-0600
TZOFFSETTO:-0500
TZNAME:CDT
DTSTART:20240310T080000
END:DAYLIGHT
BEGIN:STANDARD
TZOFFSETFROM:-0500
TZOFFSETTO:-0600
TZNAME:CST
DTSTART:20241103T070000
END:STANDARD
BEGIN:DAYLIGHT
TZOFFSETFROM:-0600
TZOFFSETTO:-0500
TZNAME:CDT
DTSTART:20250309T080000
END:DAYLIGHT
BEGIN:STANDARD
TZOFFSETFROM:-0500
TZOFFSETTO:-0600
TZNAME:CST
DTSTART:20251102T070000
END:STANDARD
END:VTIMEZONE
BEGIN:VEVENT
DTSTART;TZID=America/Chicago:20240602T093000
DTEND;TZID=America/Chicago:20240602T123000
DTSTAMP:20260422T024947
CREATED:20230817T204955Z
LAST-MODIFIED:20230817T205203Z
UID:10000128-1717320600-1717331400@nbchuntsville.com
SUMMARY:Sunday Services
DESCRIPTION:9:30 AM – Small Group Bible Study\n10:50 AM – Worship Service
URL:https://nbchuntsville.com/event/sunday-services/2024-06-02/
CATEGORIES:Weekly
ATTACH;FMTTYPE=image/webp:https://nbchuntsville.com/wp-content/uploads/2023/08/sunday-services.webp
END:VEVENT
BEGIN:VEVENT
DTSTART;TZID=America/Chicago:20240605T170000
DTEND;TZID=America/Chicago:20240605T193000
DTSTAMP:20260422T024947
CREATED:20230817T050046Z
LAST-MODIFIED:20240828T140742Z
UID:10000480-1717606800-1717615800@nbchuntsville.com
SUMMARY:Wednesday Services
DESCRIPTION:5:00 PM – Dinner\n6:15 PM – AWANA (Pre-K through 5th)\n6:30 PM – Northside Students (6th – 12th)\n6:30 PM – College and Young Adult\n6:30 PM – Adult Bible Study
URL:https://nbchuntsville.com/event/awana/2024-06-05/
CATEGORIES:Weekly
ATTACH;FMTTYPE=image/webp:https://nbchuntsville.com/wp-content/uploads/2023/08/midweek-service.webp
END:VEVENT
BEGIN:VEVENT
DTSTART;TZID=America/Chicago:20240609T093000
DTEND;TZID=America/Chicago:20240609T123000
DTSTAMP:20260422T024947
CREATED:20230817T204955Z
LAST-MODIFIED:20230817T205203Z
UID:10000129-1717925400-1717936200@nbchuntsville.com
SUMMARY:Sunday Services
DESCRIPTION:9:30 AM – Small Group Bible Study\n10:50 AM – Worship Service
URL:https://nbchuntsville.com/event/sunday-services/2024-06-09/
CATEGORIES:Weekly
ATTACH;FMTTYPE=image/webp:https://nbchuntsville.com/wp-content/uploads/2023/08/sunday-services.webp
END:VEVENT
BEGIN:VEVENT
DTSTART;TZID=America/Chicago:20240612T170000
DTEND;TZID=America/Chicago:20240612T193000
DTSTAMP:20260422T024947
CREATED:20230817T050046Z
LAST-MODIFIED:20240828T140742Z
UID:10000481-1718211600-1718220600@nbchuntsville.com
SUMMARY:Wednesday Services
DESCRIPTION:5:00 PM – Dinner\n6:15 PM – AWANA (Pre-K through 5th)\n6:30 PM – Northside Students (6th – 12th)\n6:30 PM – College and Young Adult\n6:30 PM – Adult Bible Study
URL:https://nbchuntsville.com/event/awana/2024-06-12/
CATEGORIES:Weekly
ATTACH;FMTTYPE=image/webp:https://nbchuntsville.com/wp-content/uploads/2023/08/midweek-service.webp
END:VEVENT
BEGIN:VEVENT
DTSTART;TZID=America/Chicago:20240616T093000
DTEND;TZID=America/Chicago:20240616T123000
DTSTAMP:20260422T024947
CREATED:20230817T204955Z
LAST-MODIFIED:20230817T205203Z
UID:10000130-1718530200-1718541000@nbchuntsville.com
SUMMARY:Sunday Services
DESCRIPTION:9:30 AM – Small Group Bible Study\n10:50 AM – Worship Service
URL:https://nbchuntsville.com/event/sunday-services/2024-06-16/
CATEGORIES:Weekly
ATTACH;FMTTYPE=image/webp:https://nbchuntsville.com/wp-content/uploads/2023/08/sunday-services.webp
END:VEVENT
BEGIN:VEVENT
DTSTART;TZID=America/Chicago:20240619T170000
DTEND;TZID=America/Chicago:20240619T193000
DTSTAMP:20260422T024947
CREATED:20230817T050046Z
LAST-MODIFIED:20240828T140742Z
UID:10000482-1718816400-1718825400@nbchuntsville.com
SUMMARY:Wednesday Services
DESCRIPTION:5:00 PM – Dinner\n6:15 PM – AWANA (Pre-K through 5th)\n6:30 PM – Northside Students (6th – 12th)\n6:30 PM – College and Young Adult\n6:30 PM – Adult Bible Study
URL:https://nbchuntsville.com/event/awana/2024-06-19/
CATEGORIES:Weekly
ATTACH;FMTTYPE=image/webp:https://nbchuntsville.com/wp-content/uploads/2023/08/midweek-service.webp
END:VEVENT
BEGIN:VEVENT
DTSTART;TZID=America/Chicago:20240623T093000
DTEND;TZID=America/Chicago:20240623T123000
DTSTAMP:20260422T024947
CREATED:20230817T204955Z
LAST-MODIFIED:20230817T205203Z
UID:10000131-1719135000-1719145800@nbchuntsville.com
SUMMARY:Sunday Services
DESCRIPTION:9:30 AM – Small Group Bible Study\n10:50 AM – Worship Service
URL:https://nbchuntsville.com/event/sunday-services/2024-06-23/
CATEGORIES:Weekly
ATTACH;FMTTYPE=image/webp:https://nbchuntsville.com/wp-content/uploads/2023/08/sunday-services.webp
END:VEVENT
BEGIN:VEVENT
DTSTART;TZID=America/Chicago:20240626T170000
DTEND;TZID=America/Chicago:20240626T193000
DTSTAMP:20260422T024947
CREATED:20230817T050046Z
LAST-MODIFIED:20240828T140742Z
UID:10000483-1719421200-1719430200@nbchuntsville.com
SUMMARY:Wednesday Services
DESCRIPTION:5:00 PM – Dinner\n6:15 PM – AWANA (Pre-K through 5th)\n6:30 PM – Northside Students (6th – 12th)\n6:30 PM – College and Young Adult\n6:30 PM – Adult Bible Study
URL:https://nbchuntsville.com/event/awana/2024-06-26/
CATEGORIES:Weekly
ATTACH;FMTTYPE=image/webp:https://nbchuntsville.com/wp-content/uploads/2023/08/midweek-service.webp
END:VEVENT
BEGIN:VEVENT
DTSTART;TZID=America/Chicago:20240630T093000
DTEND;TZID=America/Chicago:20240630T123000
DTSTAMP:20260422T024947
CREATED:20230817T204955Z
LAST-MODIFIED:20230817T205203Z
UID:10000132-1719739800-1719750600@nbchuntsville.com
SUMMARY:Sunday Services
DESCRIPTION:9:30 AM – Small Group Bible Study\n10:50 AM – Worship Service
URL:https://nbchuntsville.com/event/sunday-services/2024-06-30/
CATEGORIES:Weekly
ATTACH;FMTTYPE=image/webp:https://nbchuntsville.com/wp-content/uploads/2023/08/sunday-services.webp
END:VEVENT
END:VCALENDAR