BEGIN:VCALENDAR
VERSION:2.0
PRODID:-//Northside Baptist Church - ECPv6.15.20//NONSGML v1.0//EN
CALSCALE:GREGORIAN
METHOD:PUBLISH
X-WR-CALNAME:Northside Baptist Church
X-ORIGINAL-URL:https://nbchuntsville.com
X-WR-CALDESC:Events for Northside Baptist Church
REFRESH-INTERVAL;VALUE=DURATION:PT1H
X-Robots-Tag:noindex
X-PUBLISHED-TTL:PT1H
BEGIN:VTIMEZONE
TZID:America/Chicago
BEGIN:DAYLIGHT
TZOFFSETFROM:-0600
TZOFFSETTO:-0500
TZNAME:CDT
DTSTART:20270314T080000
END:DAYLIGHT
BEGIN:STANDARD
TZOFFSETFROM:-0500
TZOFFSETTO:-0600
TZNAME:CST
DTSTART:20271107T070000
END:STANDARD
BEGIN:DAYLIGHT
TZOFFSETFROM:-0600
TZOFFSETTO:-0500
TZNAME:CDT
DTSTART:20280312T080000
END:DAYLIGHT
BEGIN:STANDARD
TZOFFSETFROM:-0500
TZOFFSETTO:-0600
TZNAME:CST
DTSTART:20281105T070000
END:STANDARD
BEGIN:DAYLIGHT
TZOFFSETFROM:-0600
TZOFFSETTO:-0500
TZNAME:CDT
DTSTART:20290311T080000
END:DAYLIGHT
BEGIN:STANDARD
TZOFFSETFROM:-0500
TZOFFSETTO:-0600
TZNAME:CST
DTSTART:20291104T070000
END:STANDARD
END:VTIMEZONE
BEGIN:VEVENT
DTSTART;TZID=America/Chicago:20280102T093000
DTEND;TZID=America/Chicago:20280102T123000
DTSTAMP:20260421T203206
CREATED:20230817T204955Z
LAST-MODIFIED:20230817T205203Z
UID:10000315-1830418200-1830429000@nbchuntsville.com
SUMMARY:Sunday Services
DESCRIPTION:9:30 AM – Small Group Bible Study\n10:50 AM – Worship Service
URL:https://nbchuntsville.com/event/sunday-services/2028-01-02/
LOCATION:TX
CATEGORIES:Weekly
ATTACH;FMTTYPE=image/webp:https://nbchuntsville.com/wp-content/uploads/2023/08/sunday-services.webp
END:VEVENT
BEGIN:VEVENT
DTSTART;TZID=America/Chicago:20280105T170000
DTEND;TZID=America/Chicago:20280105T193000
DTSTAMP:20260421T203206
CREATED:20230817T050046Z
LAST-MODIFIED:20240828T140742Z
UID:10000664-1830704400-1830713400@nbchuntsville.com
SUMMARY:Wednesday Services
DESCRIPTION:5:00 PM – Dinner\n6:15 PM – AWANA (Pre-K through 5th)\n6:30 PM – Northside Students (6th – 12th)\n6:30 PM – College and Young Adult\n6:30 PM – Adult Bible Study
URL:https://nbchuntsville.com/event/awana/2028-01-05/
LOCATION:TX
CATEGORIES:Weekly
ATTACH;FMTTYPE=image/webp:https://nbchuntsville.com/wp-content/uploads/2023/08/midweek-service.webp
END:VEVENT
BEGIN:VEVENT
DTSTART;TZID=America/Chicago:20280109T093000
DTEND;TZID=America/Chicago:20280109T123000
DTSTAMP:20260421T203206
CREATED:20230817T204955Z
LAST-MODIFIED:20230817T205203Z
UID:10000316-1831023000-1831033800@nbchuntsville.com
SUMMARY:Sunday Services
DESCRIPTION:9:30 AM – Small Group Bible Study\n10:50 AM – Worship Service
URL:https://nbchuntsville.com/event/sunday-services/2028-01-09/
LOCATION:TX
CATEGORIES:Weekly
ATTACH;FMTTYPE=image/webp:https://nbchuntsville.com/wp-content/uploads/2023/08/sunday-services.webp
END:VEVENT
BEGIN:VEVENT
DTSTART;TZID=America/Chicago:20280112T170000
DTEND;TZID=America/Chicago:20280112T193000
DTSTAMP:20260421T203206
CREATED:20230817T050046Z
LAST-MODIFIED:20240828T140742Z
UID:10000665-1831309200-1831318200@nbchuntsville.com
SUMMARY:Wednesday Services
DESCRIPTION:5:00 PM – Dinner\n6:15 PM – AWANA (Pre-K through 5th)\n6:30 PM – Northside Students (6th – 12th)\n6:30 PM – College and Young Adult\n6:30 PM – Adult Bible Study
URL:https://nbchuntsville.com/event/awana/2028-01-12/
LOCATION:TX
CATEGORIES:Weekly
ATTACH;FMTTYPE=image/webp:https://nbchuntsville.com/wp-content/uploads/2023/08/midweek-service.webp
END:VEVENT
BEGIN:VEVENT
DTSTART;TZID=America/Chicago:20280116T093000
DTEND;TZID=America/Chicago:20280116T123000
DTSTAMP:20260421T203206
CREATED:20230817T204955Z
LAST-MODIFIED:20230817T205203Z
UID:10000317-1831627800-1831638600@nbchuntsville.com
SUMMARY:Sunday Services
DESCRIPTION:9:30 AM – Small Group Bible Study\n10:50 AM – Worship Service
URL:https://nbchuntsville.com/event/sunday-services/2028-01-16/
LOCATION:TX
CATEGORIES:Weekly
ATTACH;FMTTYPE=image/webp:https://nbchuntsville.com/wp-content/uploads/2023/08/sunday-services.webp
END:VEVENT
BEGIN:VEVENT
DTSTART;TZID=America/Chicago:20280119T170000
DTEND;TZID=America/Chicago:20280119T193000
DTSTAMP:20260421T203206
CREATED:20230817T050046Z
LAST-MODIFIED:20240828T140742Z
UID:10000666-1831914000-1831923000@nbchuntsville.com
SUMMARY:Wednesday Services
DESCRIPTION:5:00 PM – Dinner\n6:15 PM – AWANA (Pre-K through 5th)\n6:30 PM – Northside Students (6th – 12th)\n6:30 PM – College and Young Adult\n6:30 PM – Adult Bible Study
URL:https://nbchuntsville.com/event/awana/2028-01-19/
LOCATION:TX
CATEGORIES:Weekly
ATTACH;FMTTYPE=image/webp:https://nbchuntsville.com/wp-content/uploads/2023/08/midweek-service.webp
END:VEVENT
BEGIN:VEVENT
DTSTART;TZID=America/Chicago:20280123T093000
DTEND;TZID=America/Chicago:20280123T123000
DTSTAMP:20260421T203206
CREATED:20230817T204955Z
LAST-MODIFIED:20230817T205203Z
UID:10000318-1832232600-1832243400@nbchuntsville.com
SUMMARY:Sunday Services
DESCRIPTION:9:30 AM – Small Group Bible Study\n10:50 AM – Worship Service
URL:https://nbchuntsville.com/event/sunday-services/2028-01-23/
LOCATION:TX
CATEGORIES:Weekly
ATTACH;FMTTYPE=image/webp:https://nbchuntsville.com/wp-content/uploads/2023/08/sunday-services.webp
END:VEVENT
BEGIN:VEVENT
DTSTART;TZID=America/Chicago:20280126T170000
DTEND;TZID=America/Chicago:20280126T193000
DTSTAMP:20260421T203206
CREATED:20230817T050046Z
LAST-MODIFIED:20240828T140742Z
UID:10000667-1832518800-1832527800@nbchuntsville.com
SUMMARY:Wednesday Services
DESCRIPTION:5:00 PM – Dinner\n6:15 PM – AWANA (Pre-K through 5th)\n6:30 PM – Northside Students (6th – 12th)\n6:30 PM – College and Young Adult\n6:30 PM – Adult Bible Study
URL:https://nbchuntsville.com/event/awana/2028-01-26/
LOCATION:TX
CATEGORIES:Weekly
ATTACH;FMTTYPE=image/webp:https://nbchuntsville.com/wp-content/uploads/2023/08/midweek-service.webp
END:VEVENT
BEGIN:VEVENT
DTSTART;TZID=America/Chicago:20280130T093000
DTEND;TZID=America/Chicago:20280130T123000
DTSTAMP:20260421T203206
CREATED:20230817T204955Z
LAST-MODIFIED:20230817T205203Z
UID:10000319-1832837400-1832848200@nbchuntsville.com
SUMMARY:Sunday Services
DESCRIPTION:9:30 AM – Small Group Bible Study\n10:50 AM – Worship Service
URL:https://nbchuntsville.com/event/sunday-services/2028-01-30/
LOCATION:TX
CATEGORIES:Weekly
ATTACH;FMTTYPE=image/webp:https://nbchuntsville.com/wp-content/uploads/2023/08/sunday-services.webp
END:VEVENT
END:VCALENDAR