BEGIN:VCALENDAR
VERSION:2.0
PRODID:-//Northside Baptist Church - ECPv6.15.20//NONSGML v1.0//EN
CALSCALE:GREGORIAN
METHOD:PUBLISH
X-ORIGINAL-URL:https://nbchuntsville.com
X-WR-CALDESC:Events for Northside Baptist Church
REFRESH-INTERVAL;VALUE=DURATION:PT1H
X-Robots-Tag:noindex
X-PUBLISHED-TTL:PT1H
BEGIN:VTIMEZONE
TZID:America/Chicago
BEGIN:DAYLIGHT
TZOFFSETFROM:-0600
TZOFFSETTO:-0500
TZNAME:CDT
DTSTART:20220313T080000
END:DAYLIGHT
BEGIN:STANDARD
TZOFFSETFROM:-0500
TZOFFSETTO:-0600
TZNAME:CST
DTSTART:20221106T070000
END:STANDARD
BEGIN:DAYLIGHT
TZOFFSETFROM:-0600
TZOFFSETTO:-0500
TZNAME:CDT
DTSTART:20230312T080000
END:DAYLIGHT
BEGIN:STANDARD
TZOFFSETFROM:-0500
TZOFFSETTO:-0600
TZNAME:CST
DTSTART:20231105T070000
END:STANDARD
BEGIN:DAYLIGHT
TZOFFSETFROM:-0600
TZOFFSETTO:-0500
TZNAME:CDT
DTSTART:20240310T080000
END:DAYLIGHT
BEGIN:STANDARD
TZOFFSETFROM:-0500
TZOFFSETTO:-0600
TZNAME:CST
DTSTART:20241103T070000
END:STANDARD
END:VTIMEZONE
BEGIN:VEVENT
DTSTART;TZID=America/Chicago:20231119T123000
DTEND;TZID=America/Chicago:20231119T140000
DTSTAMP:20260422T180714
CREATED:20231026T171105Z
LAST-MODIFIED:20231026T172131Z
UID:10000407-1700397000-1700402400@nbchuntsville.com
SUMMARY:Thanksgiving Fellowship
DESCRIPTION:Our annual Thanksgiving Meal and Fellowship will be on Sunday\, November 19th immediately following the morning service. Please sign up at the table in the foyer if you plan to attend so we know how many to prepare for\, and sign up to bring a side dish if you would like.  Northside will provide the meat\, dressing\, relish tray and rolls.
URL:https://nbchuntsville.com/event/thanksgiving-fellowship/
LOCATION:Northside Gym
CATEGORIES:Annual
ATTACH;FMTTYPE=image/webp:https://nbchuntsville.com/wp-content/uploads/2023/10/thanksgiving-fellowship-2023.webp
END:VEVENT
END:VCALENDAR