BEGIN:VCALENDAR
VERSION:2.0
PRODID:-//Northside Baptist Church - ECPv6.15.20//NONSGML v1.0//EN
CALSCALE:GREGORIAN
METHOD:PUBLISH
X-WR-CALNAME:Northside Baptist Church
X-ORIGINAL-URL:https://nbchuntsville.com
X-WR-CALDESC:Events for Northside Baptist Church
REFRESH-INTERVAL;VALUE=DURATION:PT1H
X-Robots-Tag:noindex
X-PUBLISHED-TTL:PT1H
BEGIN:VTIMEZONE
TZID:America/Chicago
BEGIN:DAYLIGHT
TZOFFSETFROM:-0600
TZOFFSETTO:-0500
TZNAME:CDT
DTSTART:20220313T080000
END:DAYLIGHT
BEGIN:STANDARD
TZOFFSETFROM:-0500
TZOFFSETTO:-0600
TZNAME:CST
DTSTART:20221106T070000
END:STANDARD
BEGIN:DAYLIGHT
TZOFFSETFROM:-0600
TZOFFSETTO:-0500
TZNAME:CDT
DTSTART:20230312T080000
END:DAYLIGHT
BEGIN:STANDARD
TZOFFSETFROM:-0500
TZOFFSETTO:-0600
TZNAME:CST
DTSTART:20231105T070000
END:STANDARD
BEGIN:DAYLIGHT
TZOFFSETFROM:-0600
TZOFFSETTO:-0500
TZNAME:CDT
DTSTART:20240310T080000
END:DAYLIGHT
BEGIN:STANDARD
TZOFFSETFROM:-0500
TZOFFSETTO:-0600
TZNAME:CST
DTSTART:20241103T070000
END:STANDARD
END:VTIMEZONE
BEGIN:VEVENT
DTSTART;TZID=America/Chicago:20231007T100000
DTEND;TZID=America/Chicago:20231009T120000
DTSTAMP:20260423T010416
CREATED:20230816T170534Z
LAST-MODIFIED:20230817T201458Z
UID:10000005-1696672800-1696852800@nbchuntsville.com
SUMMARY:Fall Retreat - Northside Students
DESCRIPTION:Northside Students Fall Retreat is coming! \nThis is a weekend of relaxing\, hanging out\, focusing on God and getting away from the start of school chaos. We will be joining with local churches to spend time learning about “The One” whom we worship. You won’t want to miss this great weekend. \nOpen to all students 6th-12th grade\, contact Travis with questions. \nRegister Here
URL:https://nbchuntsville.com/event/568/
LOCATION:Forest Glen Camp\, 34 Forest Glen\, Huntsville\, TX\, 77340\, United States
CATEGORIES:Annual
ATTACH;FMTTYPE=image/webp:https://nbchuntsville.com/wp-content/uploads/2023/08/Fall-Retreat-2023-NS.webp
ORGANIZER;CN="Travis Lee":MAILTO:travis@nbchuntsville.com
END:VEVENT
BEGIN:VEVENT
DTSTART;VALUE=DATE:20231013
DTEND;VALUE=DATE:20231016
DTSTAMP:20260423T010416
CREATED:20230808T203525Z
LAST-MODIFIED:20230817T201429Z
UID:10000003-1697155200-1697414399@nbchuntsville.com
SUMMARY:Ladies Fall Retreat
DESCRIPTION:Ladies\, join us for our annual Fall Retreat in Round Top\, Texas.  Sign up today! \nRegister Here
URL:https://nbchuntsville.com/event/ladies-fall-retreat/
LOCATION:Round Top Retreat Center
CATEGORIES:Annual
ATTACH;FMTTYPE=image/webp:https://nbchuntsville.com/wp-content/uploads/2023/08/won-fall-retreat-23.webp
END:VEVENT
END:VCALENDAR