BEGIN:VCALENDAR
VERSION:2.0
PRODID:-//Northside Baptist Church - ECPv6.15.20//NONSGML v1.0//EN
CALSCALE:GREGORIAN
METHOD:PUBLISH
X-WR-CALNAME:Northside Baptist Church
X-ORIGINAL-URL:https://nbchuntsville.com
X-WR-CALDESC:Events for Northside Baptist Church
REFRESH-INTERVAL;VALUE=DURATION:PT1H
X-Robots-Tag:noindex
X-PUBLISHED-TTL:PT1H
BEGIN:VTIMEZONE
TZID:America/Chicago
BEGIN:DAYLIGHT
TZOFFSETFROM:-0600
TZOFFSETTO:-0500
TZNAME:CDT
DTSTART:20230312T080000
END:DAYLIGHT
BEGIN:STANDARD
TZOFFSETFROM:-0500
TZOFFSETTO:-0600
TZNAME:CST
DTSTART:20231105T070000
END:STANDARD
BEGIN:DAYLIGHT
TZOFFSETFROM:-0600
TZOFFSETTO:-0500
TZNAME:CDT
DTSTART:20240310T080000
END:DAYLIGHT
BEGIN:STANDARD
TZOFFSETFROM:-0500
TZOFFSETTO:-0600
TZNAME:CST
DTSTART:20241103T070000
END:STANDARD
BEGIN:DAYLIGHT
TZOFFSETFROM:-0600
TZOFFSETTO:-0500
TZNAME:CDT
DTSTART:20250309T080000
END:DAYLIGHT
BEGIN:STANDARD
TZOFFSETFROM:-0500
TZOFFSETTO:-0600
TZNAME:CST
DTSTART:20251102T070000
END:STANDARD
END:VTIMEZONE
BEGIN:VEVENT
DTSTART;VALUE=DATE:20240708
DTEND;VALUE=DATE:20240713
DTSTAMP:20260419T080652
CREATED:20240109T172125Z
LAST-MODIFIED:20240522T142702Z
UID:10000430-1720396800-1720828799@nbchuntsville.com
SUMMARY:Jr. High Summer Camp - Northside Students
DESCRIPTION:Northside Students High School camp will be going to ETBU in Marshall\, TX for Generate Camp this summer.  More information about the camp can be found at https://generatestudents.com/ \nThis camp is for students who have completed 6th – 8th grades. \nRegister Here\nMedical Form
URL:https://nbchuntsville.com/event/jr-high-summer-camp-northside-students/
LOCATION:TX
CATEGORIES:Annual
ATTACH;FMTTYPE=image/webp:https://nbchuntsville.com/wp-content/uploads/2024/01/Camp24-2.webp
ORGANIZER;CN="Travis Lee":MAILTO:travis@nbchuntsville.com
END:VEVENT
BEGIN:VEVENT
DTSTART;VALUE=DATE:20240726
DTEND;VALUE=DATE:20240728
DTSTAMP:20260419T080652
CREATED:20240522T192049Z
LAST-MODIFIED:20240522T192050Z
UID:10000463-1721952000-1722124799@nbchuntsville.com
SUMMARY:1st & 2nd Grade Kids Camp
DESCRIPTION:Kid’s Camp is a great way for children 1st – 2nd grade to have their first camp experience at Highland Lakes Camp! This one-night camp is full of fun recreation activities\, interactive Bible learning\, and some camp essentials to give you a camp experience like no other. \nJuly 26-27\nHighland Lakes Camp\, Spicewood\, TX. \nMedical Form
URL:https://nbchuntsville.com/event/1st-2nd-grade-kids-camp/
LOCATION:TX
CATEGORIES:Annual
ATTACH;FMTTYPE=image/webp:https://nbchuntsville.com/wp-content/uploads/2024/05/kids-camp.webp
END:VEVENT
END:VCALENDAR